BEGIN:VCALENDAR
VERSION:2.0
PRODID:-//Weidevogelwerkgroep Bezuiden de Vecht - ECPv6.15.18//NONSGML v1.0//EN
CALSCALE:GREGORIAN
METHOD:PUBLISH
X-WR-CALNAME:Weidevogelwerkgroep Bezuiden de Vecht
X-ORIGINAL-URL:https://weidevogelwerkgroepbezuidendevecht.nl
X-WR-CALDESC:Evenementen voor Weidevogelwerkgroep Bezuiden de Vecht
REFRESH-INTERVAL;VALUE=DURATION:PT1H
X-Robots-Tag:noindex
X-PUBLISHED-TTL:PT1H
BEGIN:VTIMEZONE
TZID:UTC
BEGIN:STANDARD
TZOFFSETFROM:+0000
TZOFFSETTO:+0000
TZNAME:UTC
DTSTART:20250101T000000
END:STANDARD
END:VTIMEZONE
BEGIN:VEVENT
DTSTART;TZID=UTC:20260425T073000
DTEND;TZID=UTC:20260425T120000
DTSTAMP:20260419T120357
CREATED:20250218T075526Z
LAST-MODIFIED:20260304T110658Z
UID:1154-1777102200-1777118400@weidevogelwerkgroepbezuidendevecht.nl
SUMMARY:Groepszoeken
DESCRIPTION:
URL:https://weidevogelwerkgroepbezuidendevecht.nl/event/groepszoeken-3/
LOCATION:Gemaal aan de Soestwetering ingang Gravenweg.\, gemaalweg\, wijhe\, Netherlands
ATTACH;FMTTYPE=image/jpeg:https://weidevogelwerkgroepbezuidendevecht.nl/wp-content/uploads/2025/02/grutto_eieren-e1739657185182.jpg
END:VEVENT
BEGIN:VEVENT
DTSTART;TZID=UTC:20260502T090000
DTEND;TZID=UTC:20260502T120000
DTSTAMP:20260419T120357
CREATED:20250219T104924Z
LAST-MODIFIED:20260304T110724Z
UID:1172-1777712400-1777723200@weidevogelwerkgroepbezuidendevecht.nl
SUMMARY:Groepszoeken
DESCRIPTION:
URL:https://weidevogelwerkgroepbezuidendevecht.nl/event/groepszoeken-4/
LOCATION:Gemaal aan de Soestwetering ingang Gravenweg.\, gemaalweg\, wijhe\, Netherlands
END:VEVENT
BEGIN:VEVENT
DTSTART;TZID=UTC:20260509T073000
DTEND;TZID=UTC:20260509T120000
DTSTAMP:20260419T120357
CREATED:20250219T105016Z
LAST-MODIFIED:20260304T110805Z
UID:1174-1778311800-1778328000@weidevogelwerkgroepbezuidendevecht.nl
SUMMARY:Groepszoeken
DESCRIPTION:
URL:https://weidevogelwerkgroepbezuidendevecht.nl/event/groepszoeken-5/
LOCATION:Gemaal aan de Soestwetering ingang Gravenweg.\, gemaalweg\, wijhe\, Netherlands
END:VEVENT
BEGIN:VEVENT
DTSTART;TZID=UTC:20260516T073000
DTEND;TZID=UTC:20260516T120000
DTSTAMP:20260419T120357
CREATED:20250225T104704Z
LAST-MODIFIED:20260304T110824Z
UID:1325-1778916600-1778932800@weidevogelwerkgroepbezuidendevecht.nl
SUMMARY:Groepszoeken
DESCRIPTION:
URL:https://weidevogelwerkgroepbezuidendevecht.nl/event/groepszoeken-8/
LOCATION:Gemaal aan de Soestwetering ingang Gravenweg.\, gemaalweg\, wijhe\, Netherlands
END:VEVENT
BEGIN:VEVENT
DTSTART;TZID=UTC:20260523T073000
DTEND;TZID=UTC:20260523T120000
DTSTAMP:20260419T120357
CREATED:20250219T105154Z
LAST-MODIFIED:20260304T110848Z
UID:1176-1779521400-1779537600@weidevogelwerkgroepbezuidendevecht.nl
SUMMARY:Groepszoeken
DESCRIPTION:
URL:https://weidevogelwerkgroepbezuidendevecht.nl/event/groepszoeken-6/
LOCATION:Gemaal aan de Soestwetering ingang Gravenweg.\, gemaalweg\, wijhe\, Netherlands
END:VEVENT
END:VCALENDAR